BEGIN:VCALENDAR
VERSION:2.0
PRODID:-//Chandlers - ECPv6.7.0//NONSGML v1.0//EN
CALSCALE:GREGORIAN
METHOD:PUBLISH
X-WR-CALNAME:Chandlers
X-ORIGINAL-URL:https://www.chandlersboise.com
X-WR-CALDESC:Events for Chandlers
REFRESH-INTERVAL;VALUE=DURATION:PT1H
X-Robots-Tag:noindex
X-PUBLISHED-TTL:PT1H
BEGIN:VTIMEZONE
TZID:America/Boise
BEGIN:DAYLIGHT
TZOFFSETFROM:-0700
TZOFFSETTO:-0600
TZNAME:MDT
DTSTART:20250309T090000
END:DAYLIGHT
BEGIN:STANDARD
TZOFFSETFROM:-0600
TZOFFSETTO:-0700
TZNAME:MST
DTSTART:20251102T080000
END:STANDARD
END:VTIMEZONE
BEGIN:VEVENT
DTSTART;TZID=America/Boise:20250219T170000
DTEND;TZID=America/Boise:20250219T190000
DTSTAMP:20260421T063533
CREATED:20250127T015028Z
LAST-MODIFIED:20250127T015028Z
UID:10011031-1739984400-1739991600@www.chandlersboise.com
SUMMARY:Chuck Smith - Solo Piano
DESCRIPTION:
URL:https://www.chandlersboise.com/event/chuck-smith-solo-piano-48/2025-02-19/
LOCATION:Chandlers Restaurant\, 981 West Grove Street\, Boise\, ID\, 83702\, United States
END:VEVENT
BEGIN:VEVENT
DTSTART;TZID=America/Boise:20250219T193000
DTEND;TZID=America/Boise:20250219T223000
DTSTAMP:20260421T063533
CREATED:20250127T015959Z
LAST-MODIFIED:20250127T020029Z
UID:10011027-1739993400-1740004200@www.chandlersboise.com
SUMMARY:Jimmy Lawrence Trio
DESCRIPTION:Jimmy Lawrence – Piano; \nMike Seifrit – Bass; \nGreg Belzeski – Drums
URL:https://www.chandlersboise.com/event/jimmy-lawrence-trio-55/
LOCATION:Chandlers Restaurant\, 981 West Grove Street\, Boise\, ID\, 83702\, United States
END:VEVENT
END:VCALENDAR