BEGIN:VCALENDAR
VERSION:2.0
PRODID:-//Chandlers - ECPv6.7.0//NONSGML v1.0//EN
CALSCALE:GREGORIAN
METHOD:PUBLISH
X-ORIGINAL-URL:https://www.chandlersboise.com
X-WR-CALDESC:Events for Chandlers
REFRESH-INTERVAL;VALUE=DURATION:PT1H
X-Robots-Tag:noindex
X-PUBLISHED-TTL:PT1H
BEGIN:VTIMEZONE
TZID:America/Boise
BEGIN:DAYLIGHT
TZOFFSETFROM:-0700
TZOFFSETTO:-0600
TZNAME:MDT
DTSTART:20250309T090000
END:DAYLIGHT
BEGIN:STANDARD
TZOFFSETFROM:-0600
TZOFFSETTO:-0700
TZNAME:MST
DTSTART:20251102T080000
END:STANDARD
END:VTIMEZONE
BEGIN:VEVENT
DTSTART;TZID=America/Boise:20250727T170000
DTEND;TZID=America/Boise:20250727T184500
DTSTAMP:20260422T024310
CREATED:20250715T163706Z
LAST-MODIFIED:20250715T163730Z
UID:10011412-1753635600-1753641900@www.chandlersboise.com
SUMMARY:Tim Green - Solo Piano
DESCRIPTION:
URL:https://www.chandlersboise.com/event/chuck-smith-solo-piano-64/
LOCATION:Chandlers Restaurant\, 981 West Grove Street\, Boise\, ID\, 83702\, United States
END:VEVENT
BEGIN:VEVENT
DTSTART;TZID=America/Boise:20250727T190000
DTEND;TZID=America/Boise:20250727T220000
DTSTAMP:20260422T024310
CREATED:20250716T163636Z
LAST-MODIFIED:20250716T163636Z
UID:10011464-1753642800-1753653600@www.chandlersboise.com
SUMMARY:Tim Green & Chris Ammirati
DESCRIPTION:Tim Green – Piano; \nChris Ammirati – Bass
URL:https://www.chandlersboise.com/event/tim-green-chris-ammirati-7/
LOCATION:Chandlers Restaurant\, 981 West Grove Street\, Boise\, ID\, 83702\, United States
END:VEVENT
END:VCALENDAR