BEGIN:VCALENDAR
VERSION:2.0
PRODID:-//Chandlers - ECPv6.7.0//NONSGML v1.0//EN
CALSCALE:GREGORIAN
METHOD:PUBLISH
X-ORIGINAL-URL:https://www.chandlersboise.com
X-WR-CALDESC:Events for Chandlers
REFRESH-INTERVAL;VALUE=DURATION:PT1H
X-Robots-Tag:noindex
X-PUBLISHED-TTL:PT1H
BEGIN:VTIMEZONE
TZID:America/Boise
BEGIN:DAYLIGHT
TZOFFSETFROM:-0700
TZOFFSETTO:-0600
TZNAME:MDT
DTSTART:20260308T090000
END:DAYLIGHT
BEGIN:STANDARD
TZOFFSETFROM:-0600
TZOFFSETTO:-0700
TZNAME:MST
DTSTART:20261101T080000
END:STANDARD
END:VTIMEZONE
BEGIN:VEVENT
DTSTART;TZID=America/Boise:20260301T170000
DTEND;TZID=America/Boise:20260301T184500
DTSTAMP:20260421T064040
CREATED:20260218T212304Z
LAST-MODIFIED:20260218T212304Z
UID:10011906-1772384400-1772390700@www.chandlersboise.com
SUMMARY:Chuck Smith - Solo Piano
DESCRIPTION:
URL:https://www.chandlersboise.com/event/chuck-smith-solo-piano-98/2026-03-01/
LOCATION:Chandlers Restaurant\, 981 West Grove Street\, Boise\, ID\, 83702\, United States
END:VEVENT
BEGIN:VEVENT
DTSTART;TZID=America/Boise:20260301T190000
DTEND;TZID=America/Boise:20260301T220000
DTSTAMP:20260421T064040
CREATED:20260228T192046Z
LAST-MODIFIED:20260228T192046Z
UID:10011930-1772391600-1772402400@www.chandlersboise.com
SUMMARY:Tim Green & Chris Ammirati
DESCRIPTION:Tim Green – Piano; \nChris Ammirati – Bass
URL:https://www.chandlersboise.com/event/tim-green-chris-ammirati-15/
LOCATION:Chandlers Restaurant\, 981 West Grove Street\, Boise\, ID\, 83702\, United States
END:VEVENT
END:VCALENDAR