BEGIN:VCALENDAR
VERSION:2.0
PRODID:-//Chandlers - ECPv6.7.0//NONSGML v1.0//EN
CALSCALE:GREGORIAN
METHOD:PUBLISH
X-WR-CALNAME:Chandlers
X-ORIGINAL-URL:https://www.chandlersboise.com
X-WR-CALDESC:Events for Chandlers
REFRESH-INTERVAL;VALUE=DURATION:PT1H
X-Robots-Tag:noindex
X-PUBLISHED-TTL:PT1H
BEGIN:VTIMEZONE
TZID:America/Boise
BEGIN:DAYLIGHT
TZOFFSETFROM:-0700
TZOFFSETTO:-0600
TZNAME:MDT
DTSTART:20260308T090000
END:DAYLIGHT
BEGIN:STANDARD
TZOFFSETFROM:-0600
TZOFFSETTO:-0700
TZNAME:MST
DTSTART:20261101T080000
END:STANDARD
END:VTIMEZONE
BEGIN:VEVENT
DTSTART;TZID=America/Boise:20260303T170000
DTEND;TZID=America/Boise:20260303T190000
DTSTAMP:20260421T063624
CREATED:20260228T184237Z
LAST-MODIFIED:20260228T184237Z
UID:10011925-1772557200-1772564400@www.chandlersboise.com
SUMMARY:Tim Green - Solo Piano
DESCRIPTION:
URL:https://www.chandlersboise.com/event/tim-green-solo-piano-89/2026-03-03/
LOCATION:Chandlers Restaurant\, 981 West Grove Street\, Boise\, ID\, 83702\, United States
END:VEVENT
BEGIN:VEVENT
DTSTART;TZID=America/Boise:20260303T193000
DTEND;TZID=America/Boise:20260303T223000
DTSTAMP:20260421T063624
CREATED:20260228T192415Z
LAST-MODIFIED:20260228T192415Z
UID:10011932-1772566200-1772577000@www.chandlersboise.com
SUMMARY:Jimmy Lawrence Trio
DESCRIPTION:Jimmy Lawrence – Piano; \nEddie Wheeler – Bass; \nScott Reusser – Drums
URL:https://www.chandlersboise.com/event/jimmy-lawrence-trio-129/2026-03-03/
LOCATION:Chandlers Restaurant\, 981 West Grove Street\, Boise\, ID\, 83702\, United States
END:VEVENT
END:VCALENDAR