BEGIN:VCALENDAR
VERSION:2.0
PRODID:-//Chandlers - ECPv6.7.0//NONSGML v1.0//EN
CALSCALE:GREGORIAN
METHOD:PUBLISH
X-WR-CALNAME:Chandlers
X-ORIGINAL-URL:https://www.chandlersboise.com
X-WR-CALDESC:Events for Chandlers
REFRESH-INTERVAL;VALUE=DURATION:PT1H
X-Robots-Tag:noindex
X-PUBLISHED-TTL:PT1H
BEGIN:VTIMEZONE
TZID:America/Boise
BEGIN:DAYLIGHT
TZOFFSETFROM:-0700
TZOFFSETTO:-0600
TZNAME:MDT
DTSTART:20260308T090000
END:DAYLIGHT
BEGIN:STANDARD
TZOFFSETFROM:-0600
TZOFFSETTO:-0700
TZNAME:MST
DTSTART:20261101T080000
END:STANDARD
END:VTIMEZONE
BEGIN:VEVENT
DTSTART;TZID=America/Boise:20260307T173000
DTEND;TZID=America/Boise:20260307T193000
DTSTAMP:20260423T024539
CREATED:20260228T195412Z
LAST-MODIFIED:20260228T195412Z
UID:10011951-1772904600-1772911800@www.chandlersboise.com
SUMMARY:Mike Rosenthal - Solo Piano
DESCRIPTION:
URL:https://www.chandlersboise.com/event/mike-rosenthal-solo-piano-105/2026-03-07/
LOCATION:Chandlers Restaurant\, 981 West Grove Street\, Boise\, ID\, 83702\, United States
END:VEVENT
BEGIN:VEVENT
DTSTART;TZID=America/Boise:20260307T200000
DTEND;TZID=America/Boise:20260307T230000
DTSTAMP:20260423T024539
CREATED:20260228T195731Z
LAST-MODIFIED:20260309T143530Z
UID:10011955-1772913600-1772924400@www.chandlersboise.com
SUMMARY:Mike Rosenthal Trio w/Lori Larkin
DESCRIPTION:Lori Larkin – Vocals; \nMike Rosenthal – Piano; \nChris Ammirati – Bass; \nJon Hyneman – Drums
URL:https://www.chandlersboise.com/event/mike-rosenthal-trio-w-ellie-shaw-10/
LOCATION:Chandlers Restaurant\, 981 West Grove Street\, Boise\, ID\, 83702\, United States
END:VEVENT
END:VCALENDAR